BEGIN:VCALENDAR
VERSION:2.0
PRODID:-//NYU Center for Disability Studies - ECPv6.9.1//NONSGML v1.0//EN
CALSCALE:GREGORIAN
METHOD:PUBLISH
X-WR-CALNAME:NYU Center for Disability Studies
X-ORIGINAL-URL:https://disabilitystudies.nyu.edu
X-WR-CALDESC:Events for NYU Center for Disability Studies
REFRESH-INTERVAL;VALUE=DURATION:PT1H
X-Robots-Tag:noindex
X-PUBLISHED-TTL:PT1H
BEGIN:VTIMEZONE
TZID:America/New_York
BEGIN:DAYLIGHT
TZOFFSETFROM:-0500
TZOFFSETTO:-0400
TZNAME:EDT
DTSTART:20200308T070000
END:DAYLIGHT
BEGIN:STANDARD
TZOFFSETFROM:-0400
TZOFFSETTO:-0500
TZNAME:EST
DTSTART:20201101T060000
END:STANDARD
END:VTIMEZONE
BEGIN:VEVENT
DTSTART;TZID=America/New_York:20201112T170000
DTEND;TZID=America/New_York:20201112T183000
DTSTAMP:20260420T071745
CREATED:20200901T173417Z
LAST-MODIFIED:20240614T133236Z
UID:1338-1605200400-1605205800@disabilitystudies.nyu.edu
SUMMARY:Disability Justice and the Politics of Inclusive Design
DESCRIPTION:NYU Center for Disability Studies \nThe ACLS Scholars & Society Program \nNYU Big Ideas Series \nco-sponsors \nThe NYU Office of Global Inclusion/NYU WOMXN 100 Initiative \n\n \nDisability Justice and the Politics of Inclusive Design\nSara Hendren (designer/activist\, Olin College) + Regine Gilbert (designer/activist\, NYU Tandon) discussing their recent books:\nSara Hendren\, What Can a Body Do? How We Meet the Built World (Penguin/Riverhead\, 2020)\nRegine Gilbert\, Inclusive Design for a Digital World: Designing with Accessibility in Mind\, (APress\, 2019)\n\nModerator: Mara Mills (C0-Chair NYU CDS) \nCART provided. This is a Zoom webinar: Registration is required.
URL:https://disabilitystudies.nyu.edu/event/disability-justice-and-the-politics-of-inclusive-design/
END:VEVENT
END:VCALENDAR